BEGIN:VCALENDAR
VERSION:2.0
PRODID:-//eventon.com NONSGML v1.0//EN
BEGIN:VEVENT
UID:69e73fcd44a6b
DTSTAMP:20260421T051349
DTSTART:20211107T200000Z
DTEND:20211107T213000Z
TZID:America/New_York
LOCATION:Academy Theatre 
SUMMARY:The Tamburitzans
DESCRIPTION: Join The Tamburitzans for their 83rd season full performance of Symbols. The show features an elaborate live stage production transporting audiences to the heart of intriguing international cultures from around the globe.\nhttps://makeastoryhere.com/events/the-tamburitzans-3/
URL:https://makeastoryhere.com/events/the-tamburitzans-3/
END:VEVENT
END:VCALENDAR