BEGIN:VCALENDAR
VERSION:2.0
PRODID:-//eventon.com NONSGML v1.0//EN
BEGIN:VEVENT
UID:69e732f6d5cb2
DTSTAMP:20260421T041902
DTSTART:20190518T150000Z
DTEND:20190518T200000Z
TZID:America/New_York
LOCATION:Downtown Linesville 
SUMMARY:Bairs Corvettes 14th Annual Open House and Classic Car Cruise-In
DESCRIPTION: Bairs 14th Annual Corvette and Classic Car Cruise In. Music\,  Cars\,  Spaghetti Dinner at Lakeland Senior Center along with over 10 crafters so far. There will be a DJ.Hospice of Crawford County is having a 50/50\,  Rotary will have their food truck. Dash plaques for the first 100 registered cars.[..]\nhttps://makeastoryhere.com/events/bairs-corvettes-14th-annual-open-house-and-classic-car-cruise-in/
URL:https://makeastoryhere.com/events/bairs-corvettes-14th-annual-open-house-and-classic-car-cruise-in/
END:VEVENT
END:VCALENDAR